BEGIN:VCALENDAR
VERSION:2.0
PRODID:-//Soyuzivka - ECPv6.15.20//NONSGML v1.0//EN
CALSCALE:GREGORIAN
METHOD:PUBLISH
X-ORIGINAL-URL:https://soyuzivka.com
X-WR-CALDESC:Events for Soyuzivka
REFRESH-INTERVAL;VALUE=DURATION:PT1H
X-Robots-Tag:noindex
X-PUBLISHED-TTL:PT1H
BEGIN:VTIMEZONE
TZID:UTC
BEGIN:STANDARD
TZOFFSETFROM:+0000
TZOFFSETTO:+0000
TZNAME:UTC
DTSTART:20240101T000000
END:STANDARD
END:VTIMEZONE
BEGIN:VEVENT
DTSTART;TZID=UTC:20251031T090000
DTEND;TZID=UTC:20251102T170000
DTSTAMP:20260420T223055
CREATED:20251013T165503Z
LAST-MODIFIED:20251014T133715Z
UID:1933-1761901200-1762102800@soyuzivka.com
SUMMARY:Holy Trinity Youth Retreat
DESCRIPTION:2025 Religious Youth Retreat for Grades 8 – 12.  Back by popular demand! Get back on track spiritually\, connect with new and old friends\, and have some fun.
URL:https://soyuzivka.com/calendar-of-events/holy-trinity-youth-retreat/
ATTACH;FMTTYPE=image/jpeg:https://soyuzivka.com/wp-content/uploads/2025/10/Youth-Retreat-2025.jpg
END:VEVENT
END:VCALENDAR