BEGIN:VCALENDAR
VERSION:2.0
PRODID:-//Soyuzivka - ECPv6.15.20//NONSGML v1.0//EN
CALSCALE:GREGORIAN
METHOD:PUBLISH
X-WR-CALNAME:Soyuzivka
X-ORIGINAL-URL:https://soyuzivka.com
X-WR-CALDESC:Events for Soyuzivka
REFRESH-INTERVAL;VALUE=DURATION:PT1H
X-Robots-Tag:noindex
X-PUBLISHED-TTL:PT1H
BEGIN:VTIMEZONE
TZID:UTC
BEGIN:STANDARD
TZOFFSETFROM:+0000
TZOFFSETTO:+0000
TZNAME:UTC
DTSTART:20250101T000000
END:STANDARD
END:VTIMEZONE
BEGIN:VEVENT
DTSTART;VALUE=DATE:20260808
DTEND;VALUE=DATE:20260809
DTSTAMP:20260423T085613
CREATED:20250226T205822Z
LAST-MODIFIED:20260218T173900Z
UID:313-1786147200-1786233599@soyuzivka.com
SUMMARY:Miss Soyuzivka
DESCRIPTION:Steeped in a tradition that goes back to the first event held in 1956\, the pageant is known colloquially as “Miss Suzy Q”\nfollowed by a Zabava with the Hrim band.
URL:https://soyuzivka.com/calendar-of-events/miss-soyuzivka/
ATTACH;FMTTYPE=image/png:https://soyuzivka.com/wp-content/uploads/2025/02/MissQ.png
END:VEVENT
END:VCALENDAR