BEGIN:VCALENDAR
VERSION:2.0
PRODID:-//Soyuzivka - ECPv6.15.20//NONSGML v1.0//EN
CALSCALE:GREGORIAN
METHOD:PUBLISH
X-ORIGINAL-URL:https://soyuzivka.com
X-WR-CALDESC:Events for Soyuzivka
REFRESH-INTERVAL;VALUE=DURATION:PT1H
X-Robots-Tag:noindex
X-PUBLISHED-TTL:PT1H
BEGIN:VTIMEZONE
TZID:UTC
BEGIN:STANDARD
TZOFFSETFROM:+0000
TZOFFSETTO:+0000
TZNAME:UTC
DTSTART:20250101T000000
END:STANDARD
END:VTIMEZONE
BEGIN:VEVENT
DTSTART;VALUE=DATE:20261126
DTEND;VALUE=DATE:20261127
DTSTAMP:20260420T064525
CREATED:20250226T211849Z
LAST-MODIFIED:20260218T193452Z
UID:321-1795651200-1795737599@soyuzivka.com
SUMMARY:Thanksgiving Grand Buffet
DESCRIPTION:Celebrate Thanksgiving in the enchanting Catskill Mountains at Soyuzivka\, where tradition meets culinary delight! Join us for a memorable Thanksgiving dinner featuring unique recipes by Chef Andriy that add a special twist to this beloved holiday feast. Enjoy cozy lodging that captures the essence of our rich cultural heritage\, providing the perfect backdrop for family gatherings and cherished moments. Savor delicious dishes prepared with love\, experience warm hospitality\, and create lasting memories this Thanksgiving in a truly serene setting!\nTo make  your Thanksgiving reservations\,\nplease click HERE to get started.
URL:https://soyuzivka.com/calendar-of-events/thanksgiving/
ATTACH;FMTTYPE=image/png:https://soyuzivka.com/wp-content/uploads/2025/02/Thanksgiving.png
END:VEVENT
BEGIN:VEVENT
DTSTART;VALUE=DATE:20261231
DTEND;VALUE=DATE:20270104
DTSTAMP:20260420T064525
CREATED:20250226T213127Z
LAST-MODIFIED:20260218T193937Z
UID:325-1798675200-1799020799@soyuzivka.com
SUMMARY:New Year's Eve Weekend
DESCRIPTION:Ring in 2027: Celebrate the New Year at Soyuzivka! 🍾\nEscape the routine and welcome 2027 surrounded by the breathtaking tranquility of the Catskill Mountains! Before the year begins\, unplug and find renewal by hiking to our stunning winter waterfall or simply unwind with a great book next to a crackling fireplace. As evening descends\, join our festive\, unforgettable celebration featuring a gourmet banquet\, live entertainment\, and a spectacular countdown to the New Year! \n  \nWe are thrilled to offer last year’s pricing for our banquet and lodging\, and have added special\ndiscounted student rates to maximize your value. \nEnjoy the flexibility of no minimum stay requirements\, and kick off 2027 right with a complimentary \nNew Year’s Day Brunch included with your booking. \nStart 2027 with a breath of fresh air and a renewed spirit at the Soyuzivka Heritage Center. \n \nLive entertainment by Klooch | Dance to Traditional Ukrainian Music | Buffet Stations in Sophia’s Kitchen | Champagne Toast at Midnight | Cash Bar 🎶 \n\n 
URL:https://soyuzivka.com/calendar-of-events/new-years-eve/
ATTACH;FMTTYPE=image/png:https://soyuzivka.com/wp-content/uploads/2025/02/NewYears.png
END:VEVENT
END:VCALENDAR