BEGIN:VCALENDAR
VERSION:2.0
PRODID:-//Soyuzivka - ECPv6.15.20//NONSGML v1.0//EN
CALSCALE:GREGORIAN
METHOD:PUBLISH
X-ORIGINAL-URL:https://soyuzivka.com
X-WR-CALDESC:Events for Soyuzivka
REFRESH-INTERVAL;VALUE=DURATION:PT1H
X-Robots-Tag:noindex
X-PUBLISHED-TTL:PT1H
BEGIN:VTIMEZONE
TZID:UTC
BEGIN:STANDARD
TZOFFSETFROM:+0000
TZOFFSETTO:+0000
TZNAME:UTC
DTSTART:20250101T000000
END:STANDARD
END:VTIMEZONE
BEGIN:VEVENT
DTSTART;TZID=UTC:20260621T103000
DTEND;TZID=UTC:20260621T130000
DTSTAMP:20260424T144227
CREATED:20250513T213525Z
LAST-MODIFIED:20260316T170827Z
UID:1817-1782037800-1782046800@soyuzivka.com
SUMMARY:Father's Day Brunch
DESCRIPTION:Celebrate Father’s Day in style at Soyuzivka with our exquisite brunch buffet\, where a delectable array of dishes awaits\, and complemented by a complimentary beer or spiked cider—because every dad deserves a toast on his special day!\n \nReservations Accepted – Call (845) 626-5641 or\nemail events@soyuzivka.com
URL:https://soyuzivka.com/calendar-of-events/fathers-day-brunch/
ATTACH;FMTTYPE=image/png:https://soyuzivka.com/wp-content/uploads/2025/05/Fathers-Day.png
END:VEVENT
END:VCALENDAR