BEGIN:VCALENDAR
VERSION:2.0
PRODID:-//Soyuzivka - ECPv6.15.20//NONSGML v1.0//EN
CALSCALE:GREGORIAN
METHOD:PUBLISH
X-ORIGINAL-URL:https://soyuzivka.com
X-WR-CALDESC:Events for Soyuzivka
REFRESH-INTERVAL;VALUE=DURATION:PT1H
X-Robots-Tag:noindex
X-PUBLISHED-TTL:PT1H
BEGIN:VTIMEZONE
TZID:UTC
BEGIN:STANDARD
TZOFFSETFROM:+0000
TZOFFSETTO:+0000
TZNAME:UTC
DTSTART:20250101T000000
END:STANDARD
END:VTIMEZONE
BEGIN:VEVENT
DTSTART;VALUE=DATE:20260417
DTEND;VALUE=DATE:20260420
DTSTAMP:20260420T113109
CREATED:20250226T175926Z
LAST-MODIFIED:20260218T171657Z
UID:278-1776384000-1776643199@soyuzivka.com
SUMMARY:Volunteer Weekend
DESCRIPTION:Join us in making a difference!\n\n\n\nSoyuzivka is a place that has been loved by all for decades\, why not give back and make a difference? Volunteering is a powerful way to support the place many of us hold dear. Build connections with others who share your passion and make a lasting difference. You can help us with the following:\n\n\n– Painting\n– Dining Room Refresh\n– General Spring Cleaning and Landscaping
URL:https://soyuzivka.com/calendar-of-events/volunteer-weekend/
ATTACH;FMTTYPE=image/png:https://soyuzivka.com/wp-content/uploads/2025/02/SuzyQ-Volunteer1.png
END:VEVENT
END:VCALENDAR