BEGIN:VCALENDAR
VERSION:2.0
PRODID:-//Soyuzivka - ECPv6.15.20//NONSGML v1.0//EN
CALSCALE:GREGORIAN
METHOD:PUBLISH
X-ORIGINAL-URL:https://soyuzivka.com
X-WR-CALDESC:Events for Soyuzivka
REFRESH-INTERVAL;VALUE=DURATION:PT1H
X-Robots-Tag:noindex
X-PUBLISHED-TTL:PT1H
BEGIN:VTIMEZONE
TZID:UTC
BEGIN:STANDARD
TZOFFSETFROM:+0000
TZOFFSETTO:+0000
TZNAME:UTC
DTSTART:20250101T000000
END:STANDARD
END:VTIMEZONE
BEGIN:VEVENT
DTSTART;VALUE=DATE:20260106
DTEND;VALUE=DATE:20260107
DTSTAMP:20260420T144709
CREATED:20251014T132852Z
LAST-MODIFIED:20251224T132537Z
UID:1958-1767657600-1767743999@soyuzivka.com
SUMMARY:Shedriy Vechir
DESCRIPTION:Join us on Saturday\, January 3rd for a special evening of delicious Ukrainian cuisine and festive cheer at Soyuzivka!
URL:https://soyuzivka.com/calendar-of-events/shedriy-vechir/
ATTACH;FMTTYPE=image/jpeg:https://soyuzivka.com/wp-content/uploads/2025/10/Shedriy-Vechir.jpg
END:VEVENT
END:VCALENDAR