BEGIN:VCALENDAR
VERSION:2.0
PRODID:-//Soyuzivka - ECPv6.15.20//NONSGML v1.0//EN
CALSCALE:GREGORIAN
METHOD:PUBLISH
X-ORIGINAL-URL:https://soyuzivka.com
X-WR-CALDESC:Events for Soyuzivka
REFRESH-INTERVAL;VALUE=DURATION:PT1H
X-Robots-Tag:noindex
X-PUBLISHED-TTL:PT1H
BEGIN:VTIMEZONE
TZID:UTC
BEGIN:STANDARD
TZOFFSETFROM:+0000
TZOFFSETTO:+0000
TZNAME:UTC
DTSTART:20240101T000000
END:STANDARD
END:VTIMEZONE
BEGIN:VEVENT
DTSTART;VALUE=DATE:20251220
DTEND;VALUE=DATE:20251221
DTSTAMP:20260420T162006
CREATED:20250226T212540Z
LAST-MODIFIED:20251120T012209Z
UID:323-1766188800-1766275199@soyuzivka.com
SUMMARY:A Christmas Carol Show and Luncheon
DESCRIPTION:Experience the magic of the season at Soyuzivka’s enchanting Christmas play and luncheon! Join us for a heartwarming performance that brings to life the joy and spirit of Christmas through captivating storytelling and vibrant cultural traditions. Following the show\, indulge in a festive luncheon featuring dishes that will warm your heart and satisfy your holiday cravings. Gather with family and friends in a cozy atmosphere filled with laughter\, music\, and the spirit of community. Don’t miss this wonderful opportunity to celebrate the holiday season with us!\n  \nClick HERE to purchase tickets for the luncheon & show!\n 
URL:https://soyuzivka.com/calendar-of-events/christmas-show-and-luncheon/
ATTACH;FMTTYPE=image/jpeg:https://soyuzivka.com/wp-content/uploads/2025/02/Dickens-Xmas.jpg
END:VEVENT
END:VCALENDAR